BEGIN:VCALENDAR
VERSION:2.0
CALSCALE:GREGORIAN
PRODID:adamgibbons/ics
METHOD:PUBLISH
X-PUBLISHED-TTL:PT1H
BEGIN:VEVENT
UID:437@phillyl.askapunk.net
SUMMARY:7 Seconds\, Sunstroke\, Rule Them All\, Just Look Around
DTSTAMP:20260425T032621Z
DTSTART:20260509T230000Z
DTEND:20260510T033000Z
URL:https://philly.askapunk.net/event/7-seconds-sunstroke-rule-them-all-jus
	t-look-around
LOCATION:Warehouse on Watts - 923 n Watts Street
STATUS:CONFIRMED
CATEGORIES:hardcore,hardcore punk
BEGIN:VALARM
ACTION:DISPLAY
DESCRIPTION:7 Seconds, Sunstroke, Rule Them All, Just Look Around
TRIGGER:-PT1H
END:VALARM
END:VEVENT
END:VCALENDAR
