BEGIN:VCALENDAR
VERSION:2.0
CALSCALE:GREGORIAN
PRODID:adamgibbons/ics
METHOD:PUBLISH
X-PUBLISHED-TTL:PT1H
BEGIN:VEVENT
UID:435@phillyl.askapunk.net
SUMMARY:Dez Cadena plays an all Black Flag set! Plus NOUN\, Droogettes\, th
	e Brood
DTSTAMP:20260425T032535Z
DTSTART:20260516T050000Z
DTEND:20260516T080000Z
DESCRIPTION:1pm - 4pm!!!\n\ntickets here: Dez Cadena plays all Black Flag\,
	 The Droogettes\, NOUN\, The Brood\nTickets\, Saturday\, May 16  •  1 PM -
	 4 PM | Eventbrite\n[https://www.eventbrite.com/e/dez-cadena-plays-all-bla
	ck-flag-the-droogettes-noun-the-brood-tickets-1984441365544]\n\nLouie\, Lo
	uie! Have we got a cool show for you! On May 16\, for the first time\nsinc
	e 1981\, punk icon Dez Cadena will perform a full Black Flag set!!!\n\nHe'
	ll be doing all the classics that you live\, backed by a killer all-star b
	and-\nSociety's Imitations… surely that band doesn't have members of Viole
	nt Society\nin it… Dez will be singing and playing guitar and on some trac
	ks\, in classic '81\nstyle\, just taking the mic and destroying the room w
	ith that classic tar-n-glass\nvoice!!! Oh yes! This is a one time only thi
	ng!!!\n\nBut\, that's not all… the newly reformed Droogettes will be bashi
	ng it up with\ntheir punk meets oi! charge and they have a bunch of new so
	ngs!\n\nPlus\, Noun\, which is Marissa Paternoster of Screaming Females\, 
	Mean Nasrene\, and\nAsh Crash of Pinkwash will be playing their heavy as h
	ell post-punk damage!\n\nPlus\, Philly Anarcho Hardcore smashers The Brood
	 are going to lay waste to the\nshow!\n\nThat's May 16 at Philamoca in Phi
	lly (531 N. 12th street). Note that this is a\nmatinee show and doors are 
	at 1pm… so you can go see one of the greatest\nhardecore vocalists ever an
	d have plenty of time to walk across the street and\nsee They Might Be Gia
	nts.\n\nOf course\, this show is all ages! See you there!!!\n\n***and yes\
	, yes\, we know Dez plays Black Flag tunes in the astoundingly great\nFLAG
	\, but this set is ALL DEZ front and center\, baby!!!
URL:https://philly.askapunk.net/event/dez-cadena-plays-an-all-black-flag-se
	t-plus-noun-droogettes-the-brood
LOCATION:PhilaMoca - 531 N 12th St
STATUS:CONFIRMED
CATEGORIES:OUT OF TOWN BAND,hardcore,hardcore punk,punk,philadelphia
X-ALT-DESC;FMTTYPE=text/html:<p>1pm - 4pm!!!</p><p>tickets here: <a href="h
	ttps://www.eventbrite.com/e/dez-cadena-plays-all-black-flag-the-droogettes
	-noun-the-brood-tickets-1984441365544" target="_blank">Dez Cadena plays al
	l Black Flag, The Droogettes, NOUN, The Brood Tickets, Saturday, May 16 &n
	bsp;•&nbsp; 1 PM - 4 PM | Eventbrite</a></p><p>Louie, Louie! Have we got a
	 cool show for you! On May 16, for the first time since 1981, punk icon De
	z Cadena will perform a full Black Flag set!!!</p><p>He'll be doing all th
	e classics that you live, backed by a killer all-star band- Society's Imit
	ations… surely that band doesn't have members of Violent Society in it… De
	z will be singing and playing guitar and on some tracks, in classic '81 st
	yle, just taking the mic and destroying the room with that classic tar-n-g
	lass voice!!! Oh yes! This is a one time only thing!!!</p><p>But, that's n
	ot all… the newly reformed Droogettes will be bashing it up with their pun
	k meets oi! charge and they have a bunch of new songs!</p><p>Plus, Noun, w
	hich is Marissa Paternoster of Screaming Females, Mean Nasrene, and Ash Cr
	ash of Pinkwash will be playing their heavy as hell post-punk damage!</p><
	p>Plus, Philly Anarcho Hardcore smashers The Brood are going to lay waste 
	to the show!</p><p>That's May 16 at Philamoca in Philly (531 N. 12th stree
	t). Note that this is a matinee show and doors are at 1pm… so you can go s
	ee one of the greatest hardecore vocalists ever and have plenty of time to
	 walk across the street and see They Might Be Giants.</p><p>Of course, thi
	s show is all ages! See you there!!!</p><p>***and yes, yes, we know Dez pl
	ays Black Flag tunes in the astoundingly great FLAG, but this set is ALL D
	EZ front and center, baby!!!</p>
BEGIN:VALARM
ACTION:DISPLAY
DESCRIPTION:Dez Cadena plays an all Black Flag set! Plus NOUN, Droogettes, 
	the Brood
TRIGGER:-PT1H
END:VALARM
END:VEVENT
END:VCALENDAR
