BEGIN:VCALENDAR
VERSION:2.0
CALSCALE:GREGORIAN
PRODID:adamgibbons/ics
METHOD:PUBLISH
X-PUBLISHED-TTL:PT1H
BEGIN:VEVENT
UID:400@phillyl.askapunk.net
SUMMARY:CREEP FEST
DTSTAMP:20260425T133002Z
DTSTART:20260424T210000Z
DTEND:20260426T030000Z
DESCRIPTION:Creep fest weekend
URL:https://philly.askapunk.net/event/creep-fest
LOCATION:Ortlieb's - 847 N. 3rd St
STATUS:CONFIRMED
CATEGORIES:hardcore punk,philadelphia,punk
X-ALT-DESC;FMTTYPE=text/html:<p>Creep fest weekend</p>
END:VEVENT
BEGIN:VEVENT
UID:431@phillyl.askapunk.net
SUMMARY:Cemetery Girl\, LAVA\, Froggy\, B00B
DTSTAMP:20260425T133002Z
DTSTART:20260424T220000Z
DTEND:20260425T020000Z
URL:https://philly.askapunk.net/event/cemetery-girl-lava-froggy-b00b
LOCATION:The Kennel - west philly
STATUS:CONFIRMED
CATEGORIES:NOTAFLOF,OUT OF TOWN BAND,hardcore punk,mask required,philadelph
	ia
END:VEVENT
BEGIN:VEVENT
UID:401@phillyl.askapunk.net
SUMMARY:SKALLAR\, D.O.D.\, NIGHTFALL\, DYSTROPHY
DTSTAMP:20260425T133002Z
DTSTART:20260424T230000Z
DTEND:20260425T020000Z
URL:https://philly.askapunk.net/event/skallar-dod-nightfall-dystrophy
LOCATION:Common Beat Records - 4916 Baltimore Ave.  Philadelphia\, PA 19143
STATUS:CONFIRMED
CATEGORIES:
END:VEVENT
BEGIN:VEVENT
UID:416@phillyl.askapunk.net
SUMMARY:Beauty\,  Brown Angel (PGH)\,  Agita (Tape Release)\,  Eyes Have it
	 (NYC)
DTSTAMP:20260425T133002Z
DTSTART:20260424T233000Z
DTEND:20260425T040000Z
DESCRIPTION:Brown Angel (PGH) https://brownangel.bandcamp.com/\n[https://br
	ownangel.bandcamp.com/]\n\nBeauty https://beautynoise.bandcamp.com/ [https
	://beautynoise.bandcamp.com/]\n\nAgita (Tape Release) https://agita.bandca
	mp.com [https://agita.bandcamp.com]\n\nEyes Have It (NYC) eyeshaveit.bandc
	amp.com\n[https://l.instagram.com/?u=http%3A%2F%2Feyeshaveit.bandcamp.com%
	2F%3Futm_source%3Dig%26utm_medium%3Dsocial%26utm_content%3Dlink_in_bio%26f
	bclid%3DPAZXh0bgNhZW0CMTEAc3J0YwZhcHBfaWQMMjU2MjgxMDQwNTU4AAGnpEGfzv7C8849
	JvPQfBe5lPOZMZZC7V_nNe8D06Dd7QvZyN9w5IIFMZik4tI_aem_ZmTBrrGklwqiJbopir3Wog
	&e=AT5oEnncGh7BITlDgEHpakmRYVzLCwr5qz4nIyI7FjOZPgFYGQ3EjWvh1EQq8Is-9GJojFp
	oylr_wbORJrQsREVdREvGhMWGtuNthqLvGg]
URL:https://philly.askapunk.net/event/beauty-brown-angel-pgh-agita-tape-rel
	ease-eyes-have-it-nyc
LOCATION:Cousin Danny's - 5001 Market Street
STATUS:CONFIRMED
CATEGORIES:OUT OF TOWN BAND,experimental,noise,noise rock,punk
X-ALT-DESC;FMTTYPE=text/html:<p><strong>Brown Angel (PGH) </strong><a href=
	"https://brownangel.bandcamp.com/" target="_blank"><strong>https://brownan
	gel.bandcamp.com/</strong></a></p><p><strong>Beauty </strong><a href="http
	s://beautynoise.bandcamp.com/" target="_blank"><strong>https://beautynoise
	.bandcamp.com/</strong></a></p><p><strong>Agita (<em>Tape Release</em>) </
	strong><a href="https://agita.bandcamp.com" target="_blank"><strong>https:
	//agita.bandcamp.com</strong></a></p><p><strong>Eyes Have It (NYC)</strong
	> <a href="https://l.instagram.com/?u=http%3A%2F%2Feyeshaveit.bandcamp.com
	%2F%3Futm_source%3Dig%26utm_medium%3Dsocial%26utm_content%3Dlink_in_bio%26
	fbclid%3DPAZXh0bgNhZW0CMTEAc3J0YwZhcHBfaWQMMjU2MjgxMDQwNTU4AAGnpEGfzv7C884
	9JvPQfBe5lPOZMZZC7V_nNe8D06Dd7QvZyN9w5IIFMZik4tI_aem_ZmTBrrGklwqiJbopir3Wo
	g&amp;e=AT5oEnncGh7BITlDgEHpakmRYVzLCwr5qz4nIyI7FjOZPgFYGQ3EjWvh1EQq8Is-9G
	JojFpoylr_wbORJrQsREVdREvGhMWGtuNthqLvGg" target="_blank">eyeshaveit.bandc
	amp.com</a></p>
END:VEVENT
BEGIN:VEVENT
UID:396@phillyl.askapunk.net
SUMMARY:COKE BUST/COMMITMENT (ALBUM RELEASE)/HIRS/MELISSA/DEMONSTRATE
DTSTAMP:20260425T133002Z
DTSTART:20260501T230000Z
DTEND:20260502T030000Z
DESCRIPTION:COKE BUST (DC)\n\nhttps://cokebust.bandcamp.com [https://cokebu
	st.bandcamp.com]\n\nCOMMITMENT\n\ncommitmentphl.bandcamp.com [http://commi
	tmentphl.bandcamp.com]\n\nTHE HIRS COLLECTIVE\n\nhttps://hirs.bandcamp.com
	/album/were-still-here-2\n[https://hirs.bandcamp.com/album/were-still-here
	-2]\n\nMELISSA (NYC)\n\nmelissanyc.bandcamp.com/album/s-t [http://melissan
	yc.bandcamp.com/album/s-t]\n\nDEMONSTRATE\n\ndemonstratexxx.bandcamp.com/a
	lbum/demonstration-i-ii\n[http://demonstratexxx.bandcamp.com/album/demonst
	ration-i-ii]\n\n$22ADV/$25DOS
URL:https://philly.askapunk.net/event/coke-bustcommitment-album-releasehirs
	melissademonstrate
LOCATION:PhilaMoca - 531 N 12th St
STATUS:CONFIRMED
CATEGORIES:OUT OF TOWN BAND,hardcore,hardcore punk,philadelphia
X-ALT-DESC;FMTTYPE=text/html:<p>COKE BUST (DC)</p><p><a href="https://cokeb
	ust.bandcamp.com" target="_blank">https://cokebust.bandcamp.com</a></p><p>
	COMMITMENT</p><p><a href="http://commitmentphl.bandcamp.com" target="_blan
	k">commitmentphl.bandcamp.com</a></p><p>THE HIRS COLLECTIVE</p><p><a href=
	"https://hirs.bandcamp.com/album/were-still-here-2" target="_blank">https:
	//hirs.bandcamp.com/album/were-still-here-2</a></p><p>MELISSA (NYC)</p><p>
	<a href="http://melissanyc.bandcamp.com/album/s-t" target="_blank">melissa
	nyc.bandcamp.com/album/s-t</a></p><p>DEMONSTRATE</p><p><a href="http://dem
	onstratexxx.bandcamp.com/album/demonstration-i-ii" target="_blank">demonst
	ratexxx.bandcamp.com/album/demonstration-i-ii</a></p><p>$22ADV/$25DOS</p>
END:VEVENT
BEGIN:VEVENT
UID:437@phillyl.askapunk.net
SUMMARY:7 Seconds\, Sunstroke\, Rule Them All\, Just Look Around
DTSTAMP:20260425T133002Z
DTSTART:20260509T230000Z
DTEND:20260510T033000Z
URL:https://philly.askapunk.net/event/7-seconds-sunstroke-rule-them-all-jus
	t-look-around
LOCATION:Warehouse on Watts - 923 n Watts Street
STATUS:CONFIRMED
CATEGORIES:hardcore,hardcore punk
END:VEVENT
BEGIN:VEVENT
UID:435@phillyl.askapunk.net
SUMMARY:Dez Cadena plays an all Black Flag set! Plus NOUN\, Droogettes\, th
	e Brood
DTSTAMP:20260425T133002Z
DTSTART:20260516T050000Z
DTEND:20260516T080000Z
DESCRIPTION:1pm - 4pm!!!\n\ntickets here: Dez Cadena plays all Black Flag\,
	 The Droogettes\, NOUN\, The Brood\nTickets\, Saturday\, May 16  •  1 PM -
	 4 PM | Eventbrite\n[https://www.eventbrite.com/e/dez-cadena-plays-all-bla
	ck-flag-the-droogettes-noun-the-brood-tickets-1984441365544]\n\nLouie\, Lo
	uie! Have we got a cool show for you! On May 16\, for the first time\nsinc
	e 1981\, punk icon Dez Cadena will perform a full Black Flag set!!!\n\nHe'
	ll be doing all the classics that you live\, backed by a killer all-star b
	and-\nSociety's Imitations… surely that band doesn't have members of Viole
	nt Society\nin it… Dez will be singing and playing guitar and on some trac
	ks\, in classic '81\nstyle\, just taking the mic and destroying the room w
	ith that classic tar-n-glass\nvoice!!! Oh yes! This is a one time only thi
	ng!!!\n\nBut\, that's not all… the newly reformed Droogettes will be bashi
	ng it up with\ntheir punk meets oi! charge and they have a bunch of new so
	ngs!\n\nPlus\, Noun\, which is Marissa Paternoster of Screaming Females\, 
	Mean Nasrene\, and\nAsh Crash of Pinkwash will be playing their heavy as h
	ell post-punk damage!\n\nPlus\, Philly Anarcho Hardcore smashers The Brood
	 are going to lay waste to the\nshow!\n\nThat's May 16 at Philamoca in Phi
	lly (531 N. 12th street). Note that this is a\nmatinee show and doors are 
	at 1pm… so you can go see one of the greatest\nhardecore vocalists ever an
	d have plenty of time to walk across the street and\nsee They Might Be Gia
	nts.\n\nOf course\, this show is all ages! See you there!!!\n\n***and yes\
	, yes\, we know Dez plays Black Flag tunes in the astoundingly great\nFLAG
	\, but this set is ALL DEZ front and center\, baby!!!
URL:https://philly.askapunk.net/event/dez-cadena-plays-an-all-black-flag-se
	t-plus-noun-droogettes-the-brood
LOCATION:PhilaMoca - 531 N 12th St
STATUS:CONFIRMED
CATEGORIES:OUT OF TOWN BAND,hardcore,hardcore punk,philadelphia,punk
X-ALT-DESC;FMTTYPE=text/html:<p>1pm - 4pm!!!</p><p>tickets here: <a href="h
	ttps://www.eventbrite.com/e/dez-cadena-plays-all-black-flag-the-droogettes
	-noun-the-brood-tickets-1984441365544" target="_blank">Dez Cadena plays al
	l Black Flag, The Droogettes, NOUN, The Brood Tickets, Saturday, May 16 &n
	bsp;•&nbsp; 1 PM - 4 PM | Eventbrite</a></p><p>Louie, Louie! Have we got a
	 cool show for you! On May 16, for the first time since 1981, punk icon De
	z Cadena will perform a full Black Flag set!!!</p><p>He'll be doing all th
	e classics that you live, backed by a killer all-star band- Society's Imit
	ations… surely that band doesn't have members of Violent Society in it… De
	z will be singing and playing guitar and on some tracks, in classic '81 st
	yle, just taking the mic and destroying the room with that classic tar-n-g
	lass voice!!! Oh yes! This is a one time only thing!!!</p><p>But, that's n
	ot all… the newly reformed Droogettes will be bashing it up with their pun
	k meets oi! charge and they have a bunch of new songs!</p><p>Plus, Noun, w
	hich is Marissa Paternoster of Screaming Females, Mean Nasrene, and Ash Cr
	ash of Pinkwash will be playing their heavy as hell post-punk damage!</p><
	p>Plus, Philly Anarcho Hardcore smashers The Brood are going to lay waste 
	to the show!</p><p>That's May 16 at Philamoca in Philly (531 N. 12th stree
	t). Note that this is a matinee show and doors are at 1pm… so you can go s
	ee one of the greatest hardecore vocalists ever and have plenty of time to
	 walk across the street and see They Might Be Giants.</p><p>Of course, thi
	s show is all ages! See you there!!!</p><p>***and yes, yes, we know Dez pl
	ays Black Flag tunes in the astoundingly great FLAG, but this set is ALL D
	EZ front and center, baby!!!</p>
END:VEVENT
BEGIN:VEVENT
UID:425@phillyl.askapunk.net
SUMMARY:BURSTING (CHICAGO) POSITRONIX/QUIET MAN/SUBTLE BODY
DTSTAMP:20260425T133002Z
DTSTART:20260517T230000Z
DTEND:20260518T030000Z
URL:https://philly.askapunk.net/event/bursting-chicago-positronixquiet-mans
	ubtle-body
LOCATION:Cousin Danny's - 5001 Market Street
STATUS:CONFIRMED
CATEGORIES:Indie rock,OUT OF TOWN BAND,experimental rock,philadelphia,post-
	punk
END:VEVENT
BEGIN:VEVENT
UID:427@phillyl.askapunk.net
SUMMARY:Loosey / Beauty / Highlighter Rabies
DTSTAMP:20260425T133002Z
DTSTART:20260522T230000Z
DTEND:20260523T020000Z
DESCRIPTION:Loosey https://thelooseyband.com [https://thelooseyband.com]\n\
	nBeauty https://beautylovesyou.bandcamp.com [https://beautylovesyou.bandca
	mp.com]\n\nHighlighter Rabies https://www.youtube.com/watch?v=RqfcKP3hyUg\
	n[https://www.youtube.com/watch?v=RqfcKP3hyUg]\n\n@ God's Auto Body\n$10-1
	5 sliding scale\nNo Age Limit\ninfo: info@r5productions.com
URL:https://philly.askapunk.net/event/loosey-beauty-highlighter-rabies
LOCATION:God's Automatic Body - 5522 Baltimore Ave.
STATUS:CONFIRMED
CATEGORIES:
X-ALT-DESC;FMTTYPE=text/html:<p>Loosey <a href="https://thelooseyband.com" 
	target="_blank">https://thelooseyband.com</a></p><p>Beauty <a href="https:
	//beautylovesyou.bandcamp.com" target="_blank">https://beautylovesyou.band
	camp.com</a></p><p>Highlighter Rabies <a href="https://www.youtube.com/wat
	ch?v=RqfcKP3hyUg" target="_blank">https://www.youtube.com/watch?v=RqfcKP3h
	yUg</a></p><p>@ God's Auto Body<br>$10-15 sliding scale<br>No Age Limit<br
	>info: info@r5productions.com</p>
END:VEVENT
BEGIN:VEVENT
UID:421@phillyl.askapunk.net
SUMMARY:LAYER MEAT\, SPECTRAL FORCES\, VOID OF INFINITE CONSEQUENCE : A Ben
	efit Show for Sol Collective
DTSTAMP:20260425T133002Z
DTSTART:20260627T230000Z
DTEND:20260628T020000Z
DESCRIPTION:A Fundraiser Show for Soul Collective!\n\nLayer Meat | bandcamp
	.com\n[https://layermeat.bandcamp.com/track/suspended-in-gaffa]\nSpectral 
	Forces | bandcamp.com\n[https://spectralforces.bandcamp.com/album/the-univ
	erse-is-within-who]\nVoid of Infinite Consequence | bandcamp.com\n[https:/
	/voidofinfiniteconsequence.bandcamp.com/album/live-at-the-carnival]\n\n7-1
	0pm | $10-$15\n\nDonate further at phillysolcollective.org [https://philly
	solcollective.org]\n\nAccessibilty Information for the venue is at www.god
	s.gay [https://www.gods.gay]
URL:https://philly.askapunk.net/event/layer-meat-spectral-forces-void-of-in
	finite-consequence-a-benefit-show-for-sol-collective
LOCATION:God's Automatic Body - 5522 Baltimore Ave.
STATUS:CONFIRMED
CATEGORIES:avant-garde,experimental,free improvsiation,free jazz
X-ALT-DESC;FMTTYPE=text/html:<p>A Fundraiser Show for Soul Collective!<br><
	br>Layer Meat | <a href="https://layermeat.bandcamp.com/track/suspended-in
	-gaffa" target="_blank"><strong><em>bandcamp.com</em></strong></a> <br>Spe
	ctral Forces | <a href="https://spectralforces.bandcamp.com/album/the-univ
	erse-is-within-who" target="_blank"><strong><em>bandcamp.com</em></strong>
	</a><br>Void of Infinite Consequence | <a href="https://voidofinfinitecons
	equence.bandcamp.com/album/live-at-the-carnival" target="_blank"><strong><
	em>bandcamp.com</em></strong></a><br><br>7-10pm | $10-$15<br><br>Donate fu
	rther at <a href="https://phillysolcollective.org" target="_blank">phillys
	olcollective.org</a></p><p>Accessibilty Information for the venue is at <a
	 href="https://www.gods.gay" target="_blank">www.gods.gay</a></p>
END:VEVENT
BEGIN:VEVENT
UID:436@phillyl.askapunk.net
SUMMARY:Clash tribute show with Kepi Ghoulie\, Ara and Jay of Slackers\, Da
	nbert of Chumbawamba\, The Droogettes\, Dracu-Las
DTSTAMP:20260425T133002Z
DTSTART:20260801T110000Z
DTEND:20260801T150000Z
DESCRIPTION:7pm -11pm!\n\n\n\nGET TICKETS HERE: Kepi Ghoulie + Ara +Jay of 
	The Slackers and Danbert Nobacon\nplay THE CLASH! Tickets\, Saturday\, Aug
	ust 1  •  7 PM - 11 PM | Eventbrite\n[https://www.eventbrite.com/e/kepi-gh
	oulie-ara-jay-of-the-slackers-and-danbert-nobacon-play-the-clash-tickets-1
	982327830905?aff=oddtdtcreator]\n\nGHETTO DEFENDANT = Kepi Ghoulie + Ara a
	nd Jay of the Slackers + Vinnie of\nDoomstompers playing an ALL CLASH SET!
	!!\n\nDANBERT NOBACON of CHUMBAWAMBA playing Clash acoustic and solo cuts!
	!!\n\nTHE DROOGETTES playing hits from the first Clash LP!!!\n\nDRACU-LAS 
	playing Clash's songs of Hate & War & Love!!!\n\n###\n\n2026 is the 50th a
	nniversary of The Clash… and that means Summer Soiree 9 is\ngoing to be BL
	ACK MARKET CLASH!!! But\, this isn't any ol' Clash tribute show\, it\nis a
	 real one-night-only slam banger!!!\n\nFor this special event\, the new ba
	nd Ghetto Defendant\, which is Ara and Jay of\nThe Slackers with Vinnie of
	 Doomstompers\, is teaming up with the hero Kepi\nGhoulie of Groovie Ghoul
	ies!!!\n\nThey'll be doing a special\, one-time-only\, ALL CLASH SET! We h
	ave seen the\nsetlist and it is AMAZING! This will be a really special sho
	w! But that's not\nall!\n\nAnarcho-punk icon Danbert Nobacon of Chumbawamb
	a is flying out to do his own\nvery special set. For the first time ever\,
	 he will be doing Clash acoustic tunes\nand some Danbert solo stuff… and m
	aybe a Chumbawamba song or two… as you may\nknow\, Chumbawamba wrote the f
	irst ever Clash dis track ("Garageland" off\nBullshit Detector)\, even tho
	ugh they loved the Clash! So\, it will be a real full\ncircle moment!\n\nP
	LUS\, the newly reformed Droogettes will be playing hits from the first Cl
	ash\nalbum (USA and UK)!!!\n\nPLUS\, The Dracu-Las will be playing the Cla
	sh's songs of Hate & War & Love!!!\nWOW.\n\nPLUS\, we will have goodie bag
	s\, prizes\, give aways\, and other surprises!\n\nThis one-night-only shin
	dig is August 1 at Philamoca in Philly!!! Doors are at\n7pm and the show s
	tarts at 7:20pm sharp! This show is not on punk time! See you\nthere…
URL:https://philly.askapunk.net/event/clash-tribute-show-with-kepi-ghoulie-
	ara-and-jay-of-slackers-danbert-of-chumbawamba-the-droogettes-dracu-las
LOCATION:PhilaMoca - 531 N 12th St
STATUS:CONFIRMED
CATEGORIES:OUT OF TOWN BAND,philadelphia,punk
X-ALT-DESC;FMTTYPE=text/html:<p>7pm -11pm!</p><p></p><p>GET TICKETS HERE: <
	a href="https://www.eventbrite.com/e/kepi-ghoulie-ara-jay-of-the-slackers-
	and-danbert-nobacon-play-the-clash-tickets-1982327830905?aff=oddtdtcreator
	" target="_blank">Kepi Ghoulie + Ara +Jay of The Slackers and Danbert Noba
	con play THE CLASH! Tickets, Saturday, August 1 &nbsp;•&nbsp; 7 PM - 11 PM
	 | Eventbrite</a></p><p>GHETTO DEFENDANT = Kepi Ghoulie + Ara and Jay of t
	he Slackers + Vinnie of Doomstompers playing an ALL CLASH SET!!!</p><p>DAN
	BERT NOBACON of CHUMBAWAMBA playing Clash acoustic and solo cuts!!!</p><p>
	THE DROOGETTES playing hits from the first Clash LP!!!</p><p>DRACU-LAS pla
	ying Clash's songs of Hate &amp; War &amp; Love!!!</p><p>###</p><p>2026 is
	 the 50th anniversary of The Clash… and that means Summer Soiree 9 is goin
	g to be BLACK MARKET CLASH!!! But, this isn't any ol' Clash tribute show, 
	it is a real one-night-only slam banger!!!</p><p>For this special event, t
	he new band Ghetto Defendant, which is Ara and Jay of The Slackers with Vi
	nnie of Doomstompers, is teaming up with the hero Kepi Ghoulie of Groovie 
	Ghoulies!!!</p><p>They'll be doing a special, one-time-only, ALL CLASH SET
	! We have seen the setlist and it is AMAZING! This will be a really specia
	l show! But that's not all!</p><p>Anarcho-punk icon Danbert Nobacon of Chu
	mbawamba is flying out to do his own very special set. For the first time 
	ever, he will be doing Clash acoustic tunes and some Danbert solo stuff… a
	nd maybe a Chumbawamba song or two… as you may know, Chumbawamba wrote the
	 first ever Clash dis track ("Garageland" off Bullshit Detector), even tho
	ugh they loved the Clash! So, it will be a real full circle moment!</p><p>
	PLUS, the newly reformed Droogettes will be playing hits from the first Cl
	ash album (USA and UK)!!!</p><p>PLUS, The Dracu-Las will be playing the Cl
	ash's songs of Hate &amp; War &amp; Love!!! WOW.</p><p>PLUS, we will have 
	goodie bags, prizes, give aways, and other surprises!</p><p>This one-night
	-only shindig is August 1 at Philamoca in Philly!!! Doors are at 7pm and t
	he show starts at 7:20pm sharp! This show is not on punk time! See you the
	re…</p>
END:VEVENT
END:VCALENDAR
