BEGIN:VCALENDAR
VERSION:2.0
CALSCALE:GREGORIAN
PRODID:adamgibbons/ics
METHOD:PUBLISH
X-PUBLISHED-TTL:PT1H
BEGIN:VEVENT
UID:396@phillyl.askapunk.net
SUMMARY:COKE BUST/COMMITMENT (ALBUM RELEASE)/HIRS/MELISSA/DEMONSTRATE
DTSTAMP:20260421T130915Z
DTSTART:20260501T230000Z
DTEND:20260502T030000Z
URL:https://philly.askapunk.net/event/coke-bustcommitment-album-releasehirs
	melissademonstrate
LOCATION:PhilaMoca - 531 N 12th St
STATUS:CONFIRMED
CATEGORIES:OUT OF TOWN BAND,hardcore,hardcore punk,philadelphia
END:VEVENT
END:VCALENDAR
